BEGIN:VCALENDAR
VERSION:2.0
PRODID:-//IASAS.asia - ECPv6.15.20//NONSGML v1.0//EN
CALSCALE:GREGORIAN
METHOD:PUBLISH
X-ORIGINAL-URL:https://iasas.asia
X-WR-CALDESC:Events for IASAS.asia
REFRESH-INTERVAL;VALUE=DURATION:PT1H
X-Robots-Tag:noindex
X-PUBLISHED-TTL:PT1H
BEGIN:VTIMEZONE
TZID:Asia/Bangkok
BEGIN:STANDARD
TZOFFSETFROM:+0700
TZOFFSETTO:+0700
TZNAME:+07
DTSTART:20220101T000000
END:STANDARD
END:VTIMEZONE
BEGIN:VEVENT
DTSTART;TZID=Asia/Bangkok:20230922T080000
DTEND;TZID=Asia/Bangkok:20230924T170000
DTSTAMP:20260425T182138
CREATED:20230903T121355Z
LAST-MODIFIED:20230903T124716Z
UID:10772-1695369600-1695574800@iasas.asia
SUMMARY:Soccer Invitational
DESCRIPTION:
URL:https://iasas.asia/event/iasas-soccer-invitational/
LOCATION:Singapore American School\, 40 Woodlands Street 41\, 738547\, Singapore
END:VEVENT
BEGIN:VEVENT
DTSTART;TZID=Asia/Bangkok:20230922T080000
DTEND;TZID=Asia/Bangkok:20230924T170000
DTSTAMP:20260425T182138
CREATED:20230903T121410Z
LAST-MODIFIED:20230903T124709Z
UID:10767-1695369600-1695574800@iasas.asia
SUMMARY:Dance Invitational
DESCRIPTION:
URL:https://iasas.asia/event/iasas-dance-invitational/
LOCATION:Jakarta Intercultural School\, Jl. Terogong Raya No.33\, Cilandak Bar.\, Kec. Cilandak\, Kota Jakarta Selatan\, Jakarta\, Daerah Khusus Ibukota\, 12430\, Indonesia
END:VEVENT
BEGIN:VEVENT
DTSTART;TZID=Asia/Bangkok:20230922T080000
DTEND;TZID=Asia/Bangkok:20230924T170000
DTSTAMP:20260425T182138
CREATED:20230903T122846Z
LAST-MODIFIED:20230903T122846Z
UID:10784-1695369600-1695574800@iasas.asia
SUMMARY:Cross Country Invitational
DESCRIPTION:
URL:https://iasas.asia/event/cross-country-invitational/
LOCATION:International School Bangkok\, 7 Soi Nichada Thani\, Amphur\, Nonthaburi\, 11120\, Thailand
END:VEVENT
BEGIN:VEVENT
DTSTART;TZID=Asia/Bangkok:20230922T160000
DTEND;TZID=Asia/Bangkok:20230924T170000
DTSTAMP:20260425T182138
CREATED:20230903T121816Z
LAST-MODIFIED:20230903T121816Z
UID:10777-1695398400-1695574800@iasas.asia
SUMMARY:Volleyball Invitational
DESCRIPTION:
URL:https://iasas.asia/event/volleyball-invitational/
LOCATION:International School of Kuala Lumpur\, No. 2 Lorong Kelab Polo Di Raja\, Ampang Hilir\, Kuala Lumpur\, 55000\, Malaysia
END:VEVENT
END:VCALENDAR