BEGIN:VCALENDAR
VERSION:2.0
PRODID:-//IASAS.asia - ECPv6.15.20//NONSGML v1.0//EN
CALSCALE:GREGORIAN
METHOD:PUBLISH
X-WR-CALNAME:IASAS.asia
X-ORIGINAL-URL:https://iasas.asia
X-WR-CALDESC:Events for IASAS.asia
REFRESH-INTERVAL;VALUE=DURATION:PT1H
X-Robots-Tag:noindex
X-PUBLISHED-TTL:PT1H
BEGIN:VTIMEZONE
TZID:Asia/Bangkok
BEGIN:STANDARD
TZOFFSETFROM:+0700
TZOFFSETTO:+0700
TZNAME:+07
DTSTART:20230101T000000
END:STANDARD
END:VTIMEZONE
BEGIN:VEVENT
DTSTART;TZID=Asia/Bangkok:20240403T080000
DTEND;TZID=Asia/Bangkok:20240407T170000
DTSTAMP:20260425T070621
CREATED:20230904T014943Z
LAST-MODIFIED:20230904T014943Z
UID:10876-1712131200-1712509200@iasas.asia
SUMMARY:IASAS Track & Field\, Baseball & Softball
DESCRIPTION:
URL:https://iasas.asia/event/iasas-track-field-baseball-softball/
LOCATION:International School Bangkok\, 7 Soi Nichada Thani\, Amphur\, Nonthaburi\, 11120\, Thailand
END:VEVENT
BEGIN:VEVENT
DTSTART;TZID=Asia/Bangkok:20240403T080000
DTEND;TZID=Asia/Bangkok:20240407T170000
DTSTAMP:20260425T070621
CREATED:20230904T015031Z
LAST-MODIFIED:20240403T000038Z
UID:10879-1712131200-1712509200@iasas.asia
SUMMARY:IASAS Badminton & Golf
DESCRIPTION:
URL:https://iasas.asia/event/iasas-badminton-golf/
LOCATION:International School of Kuala Lumpur\, No. 2 Lorong Kelab Polo Di Raja\, Ampang Hilir\, Kuala Lumpur\, 55000\, Malaysia
END:VEVENT
END:VCALENDAR