BEGIN:VCALENDAR
VERSION:2.0
PRODID:-//IASAS.asia - ECPv6.15.20//NONSGML v1.0//EN
CALSCALE:GREGORIAN
METHOD:PUBLISH
X-WR-CALNAME:IASAS.asia
X-ORIGINAL-URL:https://iasas.asia
X-WR-CALDESC:Events for IASAS.asia
REFRESH-INTERVAL;VALUE=DURATION:PT1H
X-Robots-Tag:noindex
X-PUBLISHED-TTL:PT1H
BEGIN:VTIMEZONE
TZID:Asia/Bangkok
BEGIN:STANDARD
TZOFFSETFROM:+0700
TZOFFSETTO:+0700
TZNAME:+07
DTSTART:20230101T000000
END:STANDARD
END:VTIMEZONE
BEGIN:VEVENT
DTSTART;TZID=Asia/Bangkok:20241017T080000
DTEND;TZID=Asia/Bangkok:20241019T170000
DTSTAMP:20260424T225430
CREATED:20240603T015217Z
LAST-MODIFIED:20241013T063741Z
UID:12059-1729152000-1729357200@iasas.asia
SUMMARY:IASAS Volleyball & Cross Country
DESCRIPTION:
URL:https://iasas.asia/event/iasas-volleyball-cross-country-2/
LOCATION:Taipei American School\, No. 800 Zhongshan North Road\, Section 6\, Shilin District\, Taipei City\, 111\, Taiwan
END:VEVENT
BEGIN:VEVENT
DTSTART;TZID=Asia/Bangkok:20241017T080000
DTEND;TZID=Asia/Bangkok:20241019T170000
DTSTAMP:20260424T225430
CREATED:20240603T015244Z
LAST-MODIFIED:20241013T063814Z
UID:12062-1729152000-1729357200@iasas.asia
SUMMARY:IASAS Soccer
DESCRIPTION:
URL:https://iasas.asia/event/iasas-soccer-2/
LOCATION:International School Bangkok\, 7 Soi Nichada Thani\, Amphur\, Nonthaburi\, 11120\, Thailand
END:VEVENT
END:VCALENDAR