BEGIN:VCALENDAR
VERSION:2.0
PRODID:-//IASAS.asia - ECPv6.15.20//NONSGML v1.0//EN
CALSCALE:GREGORIAN
METHOD:PUBLISH
X-ORIGINAL-URL:https://iasas.asia
X-WR-CALDESC:Events for IASAS.asia
REFRESH-INTERVAL;VALUE=DURATION:PT1H
X-Robots-Tag:noindex
X-PUBLISHED-TTL:PT1H
BEGIN:VTIMEZONE
TZID:Asia/Bangkok
BEGIN:STANDARD
TZOFFSETFROM:+0700
TZOFFSETTO:+0700
TZNAME:+07
DTSTART:20230101T000000
END:STANDARD
END:VTIMEZONE
BEGIN:VEVENT
DTSTART;TZID=Asia/Bangkok:20241107T080000
DTEND;TZID=Asia/Bangkok:20241109T170000
DTSTAMP:20260424T211549
CREATED:20240603T015330Z
LAST-MODIFIED:20240603T015330Z
UID:12065-1730966400-1731171600@iasas.asia
SUMMARY:IASAS MUN
DESCRIPTION:
URL:https://iasas.asia/event/iasas-mun-2/
LOCATION:International School Manila\, University Parkway\, Fort Bonifacio Global City\, Taguig\, Metro Manila\, 1634\, Philippines
END:VEVENT
BEGIN:VEVENT
DTSTART;TZID=Asia/Bangkok:20241107T080000
DTEND;TZID=Asia/Bangkok:20241109T170000
DTSTAMP:20260424T211549
CREATED:20240603T015359Z
LAST-MODIFIED:20240603T015359Z
UID:12068-1730966400-1731171600@iasas.asia
SUMMARY:IASAS Art & Film
DESCRIPTION:
URL:https://iasas.asia/event/iasas-art-film-2/
LOCATION:International School of Kuala Lumpur\, No. 2 Lorong Kelab Polo Di Raja\, Ampang Hilir\, Kuala Lumpur\, 55000\, Malaysia
END:VEVENT
END:VCALENDAR