BEGIN:VCALENDAR
VERSION:2.0
PRODID:-//IASAS.asia - ECPv6.15.20//NONSGML v1.0//EN
CALSCALE:GREGORIAN
METHOD:PUBLISH
X-WR-CALNAME:IASAS.asia
X-ORIGINAL-URL:https://iasas.asia
X-WR-CALDESC:Events for IASAS.asia
REFRESH-INTERVAL;VALUE=DURATION:PT1H
X-Robots-Tag:noindex
X-PUBLISHED-TTL:PT1H
BEGIN:VTIMEZONE
TZID:Asia/Bangkok
BEGIN:STANDARD
TZOFFSETFROM:+0700
TZOFFSETTO:+0700
TZNAME:+07
DTSTART:20230101T000000
END:STANDARD
END:VTIMEZONE
BEGIN:VEVENT
DTSTART;TZID=Asia/Bangkok:20241115T080000
DTEND;TZID=Asia/Bangkok:20241116T170000
DTSTAMP:20260424T211359
CREATED:20240603T015550Z
LAST-MODIFIED:20240603T015751Z
UID:12074-1731657600-1731776400@iasas.asia
SUMMARY:IASAS Rugby Invitational (North)
DESCRIPTION:
URL:https://iasas.asia/event/iasas-rugby-invitational-north/
LOCATION:Taipei American School\, No. 800 Zhongshan North Road\, Section 6\, Shilin District\, Taipei City\, 111\, Taiwan
END:VEVENT
BEGIN:VEVENT
DTSTART;TZID=Asia/Bangkok:20241115T080000
DTEND;TZID=Asia/Bangkok:20241116T170000
DTSTAMP:20260424T211359
CREATED:20240603T015636Z
LAST-MODIFIED:20240603T015807Z
UID:12077-1731657600-1731776400@iasas.asia
SUMMARY:IASAS Rugby Invitational (South)
DESCRIPTION:
URL:https://iasas.asia/event/iasas-rugby-invitational-south/
LOCATION:Jakarta Intercultural School\, Jl. Terogong Raya No.33\, Cilandak Bar.\, Kec. Cilandak\, Kota Jakarta Selatan\, Jakarta\, Daerah Khusus Ibukota\, 12430\, Indonesia
END:VEVENT
BEGIN:VEVENT
DTSTART;TZID=Asia/Bangkok:20241115T080000
DTEND;TZID=Asia/Bangkok:20241116T170000
DTSTAMP:20260424T211359
CREATED:20240603T015709Z
LAST-MODIFIED:20240603T015709Z
UID:12080-1731657600-1731776400@iasas.asia
SUMMARY:IASAS Tennis Invitational
DESCRIPTION:
URL:https://iasas.asia/event/iasas-tennis-invitational/
LOCATION:International School of Kuala Lumpur\, No. 2 Lorong Kelab Polo Di Raja\, Ampang Hilir\, Kuala Lumpur\, 55000\, Malaysia
END:VEVENT
BEGIN:VEVENT
DTSTART;TZID=Asia/Bangkok:20241115T080000
DTEND;TZID=Asia/Bangkok:20241116T170000
DTSTAMP:20260424T211359
CREATED:20240603T015854Z
LAST-MODIFIED:20240603T015854Z
UID:12085-1731657600-1731776400@iasas.asia
SUMMARY:IASAS Swimming Invitational (IASAS VS APAC)
DESCRIPTION:
URL:https://iasas.asia/event/iasas-swimming-invitational-iasas-vs-apac/
LOCATION:Singapore American School\, 40 Woodlands Street 41\, 738547\, Singapore
END:VEVENT
BEGIN:VEVENT
DTSTART;TZID=Asia/Bangkok:20241115T080000
DTEND;TZID=Asia/Bangkok:20241117T170000
DTSTAMP:20260424T211359
CREATED:20240603T015435Z
LAST-MODIFIED:20240603T015435Z
UID:12071-1731657600-1731862800@iasas.asia
SUMMARY:IASAS Touch Invitational
DESCRIPTION:
URL:https://iasas.asia/event/iasas-touch-invitational/
LOCATION:Singapore American School\, 40 Woodlands Street 41\, 738547\, Singapore
END:VEVENT
END:VCALENDAR