BEGIN:VCALENDAR
VERSION:2.0
PRODID:-//IASAS.asia - ECPv6.15.20//NONSGML v1.0//EN
CALSCALE:GREGORIAN
METHOD:PUBLISH
X-ORIGINAL-URL:https://iasas.asia
X-WR-CALDESC:Events for IASAS.asia
REFRESH-INTERVAL;VALUE=DURATION:PT1H
X-Robots-Tag:noindex
X-PUBLISHED-TTL:PT1H
BEGIN:VTIMEZONE
TZID:Asia/Bangkok
BEGIN:STANDARD
TZOFFSETFROM:+0700
TZOFFSETTO:+0700
TZNAME:+07
DTSTART:20240101T000000
END:STANDARD
END:VTIMEZONE
BEGIN:VEVENT
DTSTART;TZID=Asia/Bangkok:20250306T080000
DTEND;TZID=Asia/Bangkok:20250308T170000
DTSTAMP:20260424T153854
CREATED:20240603T020817Z
LAST-MODIFIED:20250308T032416Z
UID:12100-1741248000-1741453200@iasas.asia
SUMMARY:IASAS Cultural Convention\, Dance\, Drama & Tech
DESCRIPTION:
URL:https://iasas.asia/event/iasas-cultural-convention-dance-drama-tech-2/
LOCATION:Singapore American School\, 40 Woodlands Street 41\, 738547\, Singapore
END:VEVENT
BEGIN:VEVENT
DTSTART;TZID=Asia/Bangkok:20250306T080000
DTEND;TZID=Asia/Bangkok:20250308T170000
DTSTAMP:20260424T153854
CREATED:20240603T020854Z
LAST-MODIFIED:20250307T042757Z
UID:12103-1741248000-1741453200@iasas.asia
SUMMARY:IASAS Speech & Debate
DESCRIPTION:
URL:https://iasas.asia/event/iasas-debate-forensics/
LOCATION:Taipei American School\, No. 800 Zhongshan North Road\, Section 6\, Shilin District\, Taipei City\, 111\, Taiwan
END:VEVENT
BEGIN:VEVENT
DTSTART;TZID=Asia/Bangkok:20250306T080000
DTEND;TZID=Asia/Bangkok:20250308T170000
DTSTAMP:20260424T153854
CREATED:20240603T020926Z
LAST-MODIFIED:20250307T035719Z
UID:12106-1741248000-1741453200@iasas.asia
SUMMARY:IASAS Music
DESCRIPTION:
URL:https://iasas.asia/event/iasas-music-2/
LOCATION:International School Bangkok\, 7 Soi Nichada Thani\, Amphur\, Nonthaburi\, 11120\, Thailand
END:VEVENT
END:VCALENDAR