BEGIN:VCALENDAR
VERSION:2.0
PRODID:-//IASAS.asia - ECPv6.15.20//NONSGML v1.0//EN
CALSCALE:GREGORIAN
METHOD:PUBLISH
X-ORIGINAL-URL:https://iasas.asia
X-WR-CALDESC:Events for IASAS.asia
REFRESH-INTERVAL;VALUE=DURATION:PT1H
X-Robots-Tag:noindex
X-PUBLISHED-TTL:PT1H
BEGIN:VTIMEZONE
TZID:Asia/Bangkok
BEGIN:STANDARD
TZOFFSETFROM:+0700
TZOFFSETTO:+0700
TZNAME:+07
DTSTART:20240101T000000
END:STANDARD
END:VTIMEZONE
BEGIN:VEVENT
DTSTART;TZID=Asia/Bangkok:20250314T080000
DTEND;TZID=Asia/Bangkok:20250315T170000
DTSTAMP:20260424T154023
CREATED:20240603T021346Z
LAST-MODIFIED:20240603T021346Z
UID:12109-1741939200-1742058000@iasas.asia
SUMMARY:IASAS Softball & Baseball Invitational
DESCRIPTION:
URL:https://iasas.asia/event/iasas-softball-baseball-invitational/
LOCATION:Singapore American School\, 40 Woodlands Street 41\, 738547\, Singapore
END:VEVENT
BEGIN:VEVENT
DTSTART;TZID=Asia/Bangkok:20250314T080000
DTEND;TZID=Asia/Bangkok:20250315T170000
DTSTAMP:20260424T154023
CREATED:20240603T021423Z
LAST-MODIFIED:20250304T071246Z
UID:12112-1741939200-1742058000@iasas.asia
SUMMARY:IASAS Track & Field Invitational (Tiger Classic)
DESCRIPTION:
URL:https://iasas.asia/event/iasas-track-field-invitational-tiger-classic/
LOCATION:Taipei American School\, No. 800 Zhongshan North Road\, Section 6\, Shilin District\, Taipei City\, 111\, Taiwan
END:VEVENT
BEGIN:VEVENT
DTSTART;TZID=Asia/Bangkok:20250314T080000
DTEND;TZID=Asia/Bangkok:20250315T170000
DTSTAMP:20260424T154023
CREATED:20240603T021507Z
LAST-MODIFIED:20240603T021507Z
UID:12115-1741939200-1742058000@iasas.asia
SUMMARY:IASAS Badminton Invitational (North)
DESCRIPTION:
URL:https://iasas.asia/event/iasas-badminton-invitational-north/
LOCATION:International School Bangkok\, 7 Soi Nichada Thani\, Amphur\, Nonthaburi\, 11120\, Thailand
END:VEVENT
BEGIN:VEVENT
DTSTART;TZID=Asia/Bangkok:20250314T080000
DTEND;TZID=Asia/Bangkok:20250315T170000
DTSTAMP:20260424T154023
CREATED:20240603T021547Z
LAST-MODIFIED:20240603T021547Z
UID:12118-1741939200-1742058000@iasas.asia
SUMMARY:IASAS Badminton Invitational (South)
DESCRIPTION:
URL:https://iasas.asia/event/iasas-badminton-invitational-south/
LOCATION:Jakarta Intercultural School\, Jl. Terogong Raya No.33\, Cilandak Bar.\, Kec. Cilandak\, Kota Jakarta Selatan\, Jakarta\, Daerah Khusus Ibukota\, 12430\, Indonesia
END:VEVENT
END:VCALENDAR