BEGIN:VCALENDAR
VERSION:2.0
PRODID:-//IASAS.asia - ECPv6.15.20//NONSGML v1.0//EN
CALSCALE:GREGORIAN
METHOD:PUBLISH
X-ORIGINAL-URL:https://iasas.asia
X-WR-CALDESC:Events for IASAS.asia
REFRESH-INTERVAL;VALUE=DURATION:PT1H
X-Robots-Tag:noindex
X-PUBLISHED-TTL:PT1H
BEGIN:VTIMEZONE
TZID:Asia/Bangkok
BEGIN:STANDARD
TZOFFSETFROM:+0700
TZOFFSETTO:+0700
TZNAME:+07
DTSTART:20250101T000000
END:STANDARD
END:VTIMEZONE
BEGIN:VEVENT
DTSTART;TZID=Asia/Bangkok:20260226T080000
DTEND;TZID=Asia/Bangkok:20260228T180000
DTSTAMP:20260424T004044
CREATED:20251009T045620Z
LAST-MODIFIED:20260224T054723Z
UID:13075-1772092800-1772301600@iasas.asia
SUMMARY:IASAS Speech/Debate at JIS
DESCRIPTION:
URL:https://iasas.asia/event/iasas-speech-debate-at-jis/
LOCATION:Jakarta Intercultural School\, Jl. Terogong Raya No.33\, Cilandak Bar.\, Kec. Cilandak\, Kota Jakarta Selatan\, Jakarta\, Daerah Khusus Ibukota\, 12430\, Indonesia
END:VEVENT
BEGIN:VEVENT
DTSTART;TZID=Asia/Bangkok:20260226T080000
DTEND;TZID=Asia/Bangkok:20260228T190000
DTSTAMP:20260424T004044
CREATED:20251009T045315Z
LAST-MODIFIED:20260224T054807Z
UID:13069-1772092800-1772305200@iasas.asia
SUMMARY:IASAS Dance\, Drama\, Tech at ISB
DESCRIPTION:
URL:https://iasas.asia/event/iasas-dance-drama-tech-at-isb/
LOCATION:International School Bangkok\, 7 Soi Nichada Thani\, Amphur\, Nonthaburi\, 11120\, Thailand
END:VEVENT
BEGIN:VEVENT
DTSTART;TZID=Asia/Bangkok:20260226T080000
DTEND;TZID=Asia/Bangkok:20260228T190000
DTSTAMP:20260424T004044
CREATED:20251009T045503Z
LAST-MODIFIED:20260224T054642Z
UID:13072-1772092800-1772305200@iasas.asia
SUMMARY:IASAS Music at ISM
DESCRIPTION:
URL:https://iasas.asia/event/iasas-music-at-ism/
LOCATION:International School Manila\, University Parkway\, Fort Bonifacio Global City\, Taguig\, Metro Manila\, 1634\, Philippines
END:VEVENT
END:VCALENDAR