BEGIN:VCALENDAR
VERSION:2.0
PRODID:-//IASAS.asia - ECPv6.15.20//NONSGML v1.0//EN
CALSCALE:GREGORIAN
METHOD:PUBLISH
X-WR-CALNAME:IASAS.asia
X-ORIGINAL-URL:https://iasas.asia
X-WR-CALDESC:Events for IASAS.asia
REFRESH-INTERVAL;VALUE=DURATION:PT1H
X-Robots-Tag:noindex
X-PUBLISHED-TTL:PT1H
BEGIN:VTIMEZONE
TZID:Asia/Bangkok
BEGIN:STANDARD
TZOFFSETFROM:+0700
TZOFFSETTO:+0700
TZNAME:+07
DTSTART:20250101T000000
END:STANDARD
END:VTIMEZONE
BEGIN:VEVENT
DTSTART;TZID=Asia/Bangkok:20260129T080000
DTEND;TZID=Asia/Bangkok:20260131T170000
DTSTAMP:20260424T021619
CREATED:20250930T021845Z
LAST-MODIFIED:20260124T043827Z
UID:12990-1769673600-1769878800@iasas.asia
SUMMARY:IASAS Basketball Championships
DESCRIPTION:
URL:https://iasas.asia/event/iasas-basketball-championships/
LOCATION:International School Bangkok\, 7 Soi Nichada Thani\, Amphur\, Nonthaburi\, 11120\, Thailand
END:VEVENT
BEGIN:VEVENT
DTSTART;TZID=Asia/Bangkok:20260129T080000
DTEND;TZID=Asia/Bangkok:20260131T170000
DTSTAMP:20260424T021619
CREATED:20250930T021923Z
LAST-MODIFIED:20260124T043745Z
UID:12993-1769673600-1769878800@iasas.asia
SUMMARY:IASAS Tennis Championships
DESCRIPTION:
URL:https://iasas.asia/event/iasas-tennis-championships/
LOCATION:International School Bangkok\, 7 Soi Nichada Thani\, Amphur\, Nonthaburi\, 11120\, Thailand
END:VEVENT
BEGIN:VEVENT
DTSTART;TZID=Asia/Bangkok:20260129T080000
DTEND;TZID=Asia/Bangkok:20260131T170000
DTSTAMP:20260424T021619
CREATED:20250930T022009Z
LAST-MODIFIED:20260127T034204Z
UID:12996-1769673600-1769878800@iasas.asia
SUMMARY:IASAS Swimming Championships
DESCRIPTION:
URL:https://iasas.asia/event/iasas-swimming-championships/
LOCATION:Singapore American School\, 40 Woodlands Street 41\, 738547\, Singapore
END:VEVENT
BEGIN:VEVENT
DTSTART;TZID=Asia/Bangkok:20260129T080000
DTEND;TZID=Asia/Bangkok:20260131T170000
DTSTAMP:20260424T021619
CREATED:20250930T022042Z
LAST-MODIFIED:20260124T005243Z
UID:12999-1769673600-1769878800@iasas.asia
SUMMARY:IASAS Rugby / Touch Championships
DESCRIPTION:
URL:https://iasas.asia/event/iasas-rugby-touch-championships/
LOCATION:Taipei American School\, No. 800 Zhongshan North Road\, Section 6\, Shilin District\, Taipei City\, 111\, Taiwan
END:VEVENT
BEGIN:VEVENT
DTSTART;TZID=Asia/Bangkok:20260226T080000
DTEND;TZID=Asia/Bangkok:20260228T180000
DTSTAMP:20260424T021619
CREATED:20251009T045620Z
LAST-MODIFIED:20260224T054723Z
UID:13075-1772092800-1772301600@iasas.asia
SUMMARY:IASAS Speech/Debate at JIS
DESCRIPTION:
URL:https://iasas.asia/event/iasas-speech-debate-at-jis/
LOCATION:Jakarta Intercultural School\, Jl. Terogong Raya No.33\, Cilandak Bar.\, Kec. Cilandak\, Kota Jakarta Selatan\, Jakarta\, Daerah Khusus Ibukota\, 12430\, Indonesia
END:VEVENT
BEGIN:VEVENT
DTSTART;TZID=Asia/Bangkok:20260226T080000
DTEND;TZID=Asia/Bangkok:20260228T190000
DTSTAMP:20260424T021619
CREATED:20251009T045315Z
LAST-MODIFIED:20260224T054807Z
UID:13069-1772092800-1772305200@iasas.asia
SUMMARY:IASAS Dance\, Drama\, Tech at ISB
DESCRIPTION:
URL:https://iasas.asia/event/iasas-dance-drama-tech-at-isb/
LOCATION:International School Bangkok\, 7 Soi Nichada Thani\, Amphur\, Nonthaburi\, 11120\, Thailand
END:VEVENT
BEGIN:VEVENT
DTSTART;TZID=Asia/Bangkok:20260226T080000
DTEND;TZID=Asia/Bangkok:20260228T190000
DTSTAMP:20260424T021619
CREATED:20251009T045503Z
LAST-MODIFIED:20260224T054642Z
UID:13072-1772092800-1772305200@iasas.asia
SUMMARY:IASAS Music at ISM
DESCRIPTION:
URL:https://iasas.asia/event/iasas-music-at-ism/
LOCATION:International School Manila\, University Parkway\, Fort Bonifacio Global City\, Taguig\, Metro Manila\, 1634\, Philippines
END:VEVENT
BEGIN:VEVENT
DTSTART;TZID=Asia/Bangkok:20260313T080000
DTEND;TZID=Asia/Bangkok:20260314T170000
DTSTAMP:20260424T021619
CREATED:20250930T022817Z
LAST-MODIFIED:20250930T022817Z
UID:13007-1773388800-1773507600@iasas.asia
SUMMARY:IASAS Softball Invitational
DESCRIPTION:
URL:https://iasas.asia/event/iasas-softball-invitational/
LOCATION:International School Bangkok\, 7 Soi Nichada Thani\, Amphur\, Nonthaburi\, 11120\, Thailand
END:VEVENT
BEGIN:VEVENT
DTSTART;TZID=Asia/Bangkok:20260313T080000
DTEND;TZID=Asia/Bangkok:20260314T170000
DTSTAMP:20260424T021619
CREATED:20250930T022848Z
LAST-MODIFIED:20250930T022848Z
UID:13010-1773388800-1773507600@iasas.asia
SUMMARY:IASAS Badminton Invitational
DESCRIPTION:
URL:https://iasas.asia/event/iasas-badminton-invitational/
LOCATION:International School Manila\, University Parkway\, Fort Bonifacio Global City\, Taguig\, Metro Manila\, 1634\, Philippines
END:VEVENT
BEGIN:VEVENT
DTSTART;TZID=Asia/Bangkok:20260313T080000
DTEND;TZID=Asia/Bangkok:20260314T170000
DTSTAMP:20260424T021619
CREATED:20250930T022939Z
LAST-MODIFIED:20250930T022939Z
UID:13013-1773388800-1773507600@iasas.asia
SUMMARY:IASAS Track & Field Invitational
DESCRIPTION:
URL:https://iasas.asia/event/iasas-track-field-invitational/
LOCATION:Taipei American School\, No. 800 Zhongshan North Road\, Section 6\, Shilin District\, Taipei City\, 111\, Taiwan
END:VEVENT
BEGIN:VEVENT
DTSTART;TZID=Asia/Bangkok:20260409T080000
DTEND;TZID=Asia/Bangkok:20260411T170000
DTSTAMP:20260424T021619
CREATED:20250930T023048Z
LAST-MODIFIED:20250930T023048Z
UID:13016-1775721600-1775926800@iasas.asia
SUMMARY:IASAS Baseball / Softball Championships
DESCRIPTION:
URL:https://iasas.asia/event/iasas-baseball-softball-championships/
LOCATION:International School of Kuala Lumpur\, No. 2 Lorong Kelab Polo Di Raja\, Ampang Hilir\, Kuala Lumpur\, 55000\, Malaysia
END:VEVENT
BEGIN:VEVENT
DTSTART;TZID=Asia/Bangkok:20260409T080000
DTEND;TZID=Asia/Bangkok:20260411T170000
DTSTAMP:20260424T021619
CREATED:20250930T023124Z
LAST-MODIFIED:20260406T041304Z
UID:13019-1775721600-1775926800@iasas.asia
SUMMARY:IASAS Badminton Championships
DESCRIPTION:
URL:https://iasas.asia/event/iasas-badminton-championships/
LOCATION:Jakarta Intercultural School\, Jl. Terogong Raya No.33\, Cilandak Bar.\, Kec. Cilandak\, Kota Jakarta Selatan\, Jakarta\, Daerah Khusus Ibukota\, 12430\, Indonesia
END:VEVENT
BEGIN:VEVENT
DTSTART;TZID=Asia/Bangkok:20260409T080000
DTEND;TZID=Asia/Bangkok:20260411T170000
DTSTAMP:20260424T021619
CREATED:20250930T023155Z
LAST-MODIFIED:20260406T041027Z
UID:13022-1775721600-1775926800@iasas.asia
SUMMARY:IASAS Track & Field Championships
DESCRIPTION:
URL:https://iasas.asia/event/iasas-track-field-championships/
LOCATION:Singapore American School\, 40 Woodlands Street 41\, 738547\, Singapore
END:VEVENT
BEGIN:VEVENT
DTSTART;TZID=Asia/Bangkok:20260409T080000
DTEND;TZID=Asia/Bangkok:20260411T170000
DTSTAMP:20260424T021619
CREATED:20250930T023220Z
LAST-MODIFIED:20260406T041154Z
UID:13025-1775721600-1775926800@iasas.asia
SUMMARY:IASAS Golf Championships
DESCRIPTION:
URL:https://iasas.asia/event/iasas-golf-championships/
LOCATION:Singapore American School\, 40 Woodlands Street 41\, 738547\, Singapore
END:VEVENT
END:VCALENDAR