BEGIN:VCALENDAR
VERSION:2.0
PRODID:-//IASAS.asia - ECPv6.15.20//NONSGML v1.0//EN
CALSCALE:GREGORIAN
METHOD:PUBLISH
X-WR-CALNAME:IASAS.asia
X-ORIGINAL-URL:https://iasas.asia
X-WR-CALDESC:Events for IASAS.asia
REFRESH-INTERVAL;VALUE=DURATION:PT1H
X-Robots-Tag:noindex
X-PUBLISHED-TTL:PT1H
BEGIN:VTIMEZONE
TZID:Asia/Bangkok
BEGIN:STANDARD
TZOFFSETFROM:+0700
TZOFFSETTO:+0700
TZNAME:+07
DTSTART:20230101T000000
END:STANDARD
END:VTIMEZONE
BEGIN:VEVENT
DTSTART;TZID=Asia/Bangkok:20240306T080000
DTEND;TZID=Asia/Bangkok:20240310T170000
DTSTAMP:20260425T070621
CREATED:20230904T014405Z
LAST-MODIFIED:20240307T033227Z
UID:10858-1709712000-1710090000@iasas.asia
SUMMARY:IASAS Cultural Convention Dance\, Drama & Tech
DESCRIPTION:
URL:https://iasas.asia/event/iasas-cultural-convention-dance-drama-tech/
LOCATION:International School Manila\, University Parkway\, Fort Bonifacio Global City\, Taguig\, Metro Manila\, 1634\, Philippines
END:VEVENT
BEGIN:VEVENT
DTSTART;TZID=Asia/Bangkok:20240306T080000
DTEND;TZID=Asia/Bangkok:20240310T170000
DTSTAMP:20260425T070621
CREATED:20230904T014506Z
LAST-MODIFIED:20240307T034423Z
UID:10861-1709712000-1710090000@iasas.asia
SUMMARY:IASAS Forensics & Debate
DESCRIPTION:
URL:https://iasas.asia/event/iasas-forensics-debate/
LOCATION:International School Bangkok\, 7 Soi Nichada Thani\, Amphur\, Nonthaburi\, 11120\, Thailand
END:VEVENT
BEGIN:VEVENT
DTSTART;TZID=Asia/Bangkok:20240306T080000
DTEND;TZID=Asia/Bangkok:20240310T170000
DTSTAMP:20260425T070621
CREATED:20230904T014544Z
LAST-MODIFIED:20240307T034501Z
UID:10864-1709712000-1710090000@iasas.asia
SUMMARY:IASAS Music
DESCRIPTION:
URL:https://iasas.asia/event/iasas-music/
LOCATION:Singapore American School\, 40 Woodlands Street 41\, 738547\, Singapore
END:VEVENT
BEGIN:VEVENT
DTSTART;TZID=Asia/Bangkok:20240315T160000
DTEND;TZID=Asia/Bangkok:20240316T170000
DTSTAMP:20260425T070621
CREATED:20230904T014845Z
LAST-MODIFIED:20230904T014845Z
UID:10873-1710518400-1710608400@iasas.asia
SUMMARY:Badminton Invitational
DESCRIPTION:
URL:https://iasas.asia/event/badminton-invitational/
LOCATION:Singapore American School\, 40 Woodlands Street 41\, 738547\, Singapore
END:VEVENT
BEGIN:VEVENT
DTSTART;TZID=Asia/Bangkok:20240315T160000
DTEND;TZID=Asia/Bangkok:20240317T170000
DTSTAMP:20260425T070621
CREATED:20230904T014626Z
LAST-MODIFIED:20230904T014626Z
UID:10867-1710518400-1710694800@iasas.asia
SUMMARY:Softball Invitational
DESCRIPTION:
URL:https://iasas.asia/event/softball-invitational/
LOCATION:Daerah Khusus Ibukota
END:VEVENT
BEGIN:VEVENT
DTSTART;TZID=Asia/Bangkok:20240315T160000
DTEND;TZID=Asia/Bangkok:20240317T170000
DTSTAMP:20260425T070621
CREATED:20230904T014717Z
LAST-MODIFIED:20230904T014717Z
UID:10870-1710518400-1710694800@iasas.asia
SUMMARY:Track & Field Invitational (Tiger Classic)
DESCRIPTION:
URL:https://iasas.asia/event/track-field-invitational-tiger-classic/
LOCATION:Taipei American School\, No. 800 Zhongshan North Road\, Section 6\, Shilin District\, Taipei City\, 111\, Taiwan
END:VEVENT
END:VCALENDAR