BEGIN:VCALENDAR
VERSION:2.0
PRODID:-//IASAS.asia - ECPv6.15.20//NONSGML v1.0//EN
CALSCALE:GREGORIAN
METHOD:PUBLISH
X-WR-CALNAME:IASAS.asia
X-ORIGINAL-URL:https://iasas.asia
X-WR-CALDESC:Events for IASAS.asia
REFRESH-INTERVAL;VALUE=DURATION:PT1H
X-Robots-Tag:noindex
X-PUBLISHED-TTL:PT1H
BEGIN:VTIMEZONE
TZID:Asia/Bangkok
BEGIN:STANDARD
TZOFFSETFROM:+0700
TZOFFSETTO:+0700
TZNAME:+07
DTSTART:20240101T000000
END:STANDARD
END:VTIMEZONE
BEGIN:VEVENT
DTSTART;TZID=Asia/Bangkok:20250410T080000
DTEND;TZID=Asia/Bangkok:20250412T170000
DTSTAMP:20260424T130445
CREATED:20240603T021635Z
LAST-MODIFIED:20250408T005739Z
UID:12121-1744272000-1744477200@iasas.asia
SUMMARY:IASAS Track & Field
DESCRIPTION:
URL:https://iasas.asia/event/iasas-track-field/
LOCATION:International School of Kuala Lumpur\, No. 2 Lorong Kelab Polo Di Raja\, Ampang Hilir\, Kuala Lumpur\, 55000\, Malaysia
END:VEVENT
BEGIN:VEVENT
DTSTART;TZID=Asia/Bangkok:20250410T080000
DTEND;TZID=Asia/Bangkok:20250412T170000
DTSTAMP:20260424T130445
CREATED:20240603T021714Z
LAST-MODIFIED:20250408T005700Z
UID:12124-1744272000-1744477200@iasas.asia
SUMMARY:IASAS Golf
DESCRIPTION:
URL:https://iasas.asia/event/iasas-golf/
LOCATION:International School of Kuala Lumpur\, No. 2 Lorong Kelab Polo Di Raja\, Ampang Hilir\, Kuala Lumpur\, 55000\, Malaysia
END:VEVENT
BEGIN:VEVENT
DTSTART;TZID=Asia/Bangkok:20250410T080000
DTEND;TZID=Asia/Bangkok:20250412T170000
DTSTAMP:20260424T130445
CREATED:20240603T021756Z
LAST-MODIFIED:20250408T005619Z
UID:12127-1744272000-1744477200@iasas.asia
SUMMARY:IASAS Baseball & Softball
DESCRIPTION:
URL:https://iasas.asia/event/iasas-baseball-softball/
LOCATION:Jakarta Intercultural School\, Jl. Terogong Raya No.33\, Cilandak Bar.\, Kec. Cilandak\, Kota Jakarta Selatan\, Jakarta\, Daerah Khusus Ibukota\, 12430\, Indonesia
END:VEVENT
BEGIN:VEVENT
DTSTART;TZID=Asia/Bangkok:20250410T080000
DTEND;TZID=Asia/Bangkok:20250412T170000
DTSTAMP:20260424T130445
CREATED:20240603T021828Z
LAST-MODIFIED:20250408T005535Z
UID:12130-1744272000-1744477200@iasas.asia
SUMMARY:IASAS Badminton
DESCRIPTION:
URL:https://iasas.asia/event/iasas-badminton/
LOCATION:Singapore American School\, 40 Woodlands Street 41\, 738547\, Singapore
END:VEVENT
END:VCALENDAR