BEGIN:VCALENDAR
VERSION:2.0
PRODID:-//IASAS.asia - ECPv6.15.20//NONSGML v1.0//EN
CALSCALE:GREGORIAN
METHOD:PUBLISH
X-WR-CALNAME:IASAS.asia
X-ORIGINAL-URL:https://iasas.asia
X-WR-CALDESC:Events for IASAS.asia
REFRESH-INTERVAL;VALUE=DURATION:PT1H
X-Robots-Tag:noindex
X-PUBLISHED-TTL:PT1H
BEGIN:VTIMEZONE
TZID:Asia/Bangkok
BEGIN:STANDARD
TZOFFSETFROM:+0700
TZOFFSETTO:+0700
TZNAME:+07
DTSTART:20240101T000000
END:STANDARD
END:VTIMEZONE
BEGIN:VEVENT
DTSTART;VALUE=DATE:20251106
DTEND;VALUE=DATE:20251109
DTSTAMP:20260424T033900
CREATED:20251009T044549Z
LAST-MODIFIED:20251009T044549Z
UID:13057-1762387200-1762646399@iasas.asia
SUMMARY:IASAS MUN at ISKL
DESCRIPTION:
URL:https://iasas.asia/event/iasas-mun-at-iskl/
LOCATION:International School of Kuala Lumpur\, No. 2 Lorong Kelab Polo Di Raja\, Ampang Hilir\, Kuala Lumpur\, 55000\, Malaysia
END:VEVENT
BEGIN:VEVENT
DTSTART;VALUE=DATE:20251106
DTEND;VALUE=DATE:20251109
DTSTAMP:20260424T033900
CREATED:20251009T044718Z
LAST-MODIFIED:20251009T044718Z
UID:13060-1762387200-1762646399@iasas.asia
SUMMARY:IASAS Art/Film at SAS
DESCRIPTION:
URL:https://iasas.asia/event/iasas-art-film-at-sas/
LOCATION:Singapore American School\, 40 Woodlands Street 41\, 738547\, Singapore
END:VEVENT
BEGIN:VEVENT
DTSTART;TZID=Asia/Bangkok:20251121T080000
DTEND;TZID=Asia/Bangkok:20251122T170000
DTSTAMP:20260424T033900
CREATED:20250930T021055Z
LAST-MODIFIED:20250930T021055Z
UID:12981-1763712000-1763830800@iasas.asia
SUMMARY:IASAS Rugby Invitational (North)
DESCRIPTION:
URL:https://iasas.asia/event/iasas-rugby-invitational-north-2/
LOCATION:Taipei American School\, No. 800 Zhongshan North Road\, Section 6\, Shilin District\, Taipei City\, 111\, Taiwan
END:VEVENT
BEGIN:VEVENT
DTSTART;TZID=Asia/Bangkok:20251121T080000
DTEND;TZID=Asia/Bangkok:20251122T170000
DTSTAMP:20260424T033900
CREATED:20250930T021123Z
LAST-MODIFIED:20250930T021123Z
UID:12984-1763712000-1763830800@iasas.asia
SUMMARY:IASAS Touch Invitational
DESCRIPTION:
URL:https://iasas.asia/event/iasas-touch-invitational-2/
LOCATION:Singapore American School\, 40 Woodlands Street 41\, 738547\, Singapore
END:VEVENT
BEGIN:VEVENT
DTSTART;TZID=Asia/Bangkok:20251121T080000
DTEND;TZID=Asia/Bangkok:20251122T170000
DTSTAMP:20260424T033900
CREATED:20250930T021155Z
LAST-MODIFIED:20250930T021155Z
UID:12987-1763712000-1763830800@iasas.asia
SUMMARY:IASAS Tennis Invitational
DESCRIPTION:
URL:https://iasas.asia/event/iasas-tennis-invitational-2/
LOCATION:International School Manila\, University Parkway\, Fort Bonifacio Global City\, Taguig\, Metro Manila\, 1634\, Philippines
END:VEVENT
END:VCALENDAR